BEGIN:VCALENDAR
VERSION:2.0
PRODID:-//wp-events-plugin.com//7.2.3.1//EN
BEGIN:VEVENT
UID:446@agsvaalpark.co.za
DTSTART;TZID=Africa/Johannesburg:20260403T180000
DTEND;TZID=Africa/Johannesburg:20260403T191500
DTSTAMP:20251230T100642Z
URL:https://www.agsvaalpark.co.za/events/paaskonferensie/
SUMMARY:Paaskonferensie
DESCRIPTION:Paaskonferensie 2026 - Goeie Vrydagaand - 18:00
ATTACH;FMTTYPE=image/jpeg:https://www.agsvaalpark.co.za/wp-content/uploads
 /2023/01/cross-grave.jpg
CATEGORIES:Nagmaal
LOCATION:A.G.S. Vaalpark\, 1 Tafelberg Crescent\, Vaalpark\, Free State\, 1
 947\, South Africa
X-APPLE-STRUCTURED-LOCATION;VALUE=URI;X-ADDRESS=1 Tafelberg Crescent\, Vaal
 park\, Free State\, 1947\, South Africa;X-APPLE-RADIUS=100;X-TITLE=A.G.S. 
 Vaalpark:geo:0,0
END:VEVENT
BEGIN:VTIMEZONE
TZID:Africa/Johannesburg
X-LIC-LOCATION:Africa/Johannesburg
BEGIN:STANDARD
DTSTART:20250403T180000
TZOFFSETFROM:+0200
TZOFFSETTO:+0200
TZNAME:SAST
END:STANDARD
END:VTIMEZONE
END:VCALENDAR